BEGIN:VCALENDAR
VERSION:2.0
PRODID:-ABConcerts-events
METHOD:PUBLISH
BEGIN:VEVENT
TRANSP:OPAQUE
DTSTART:20201002T200000
DTEND:20201002T223000
SUMMARY:ABnormal - High Hi
LOCATION:AB Theater (Anspachlaan 110\, 1000 Brussel)
DESCRIPTION:Le chiffre 13 porte-t-il malheur ?
URL;VALUE=URI:https://zebrix.abconcerts.be/fr/agenda/abnormal-high-hi/a105J000001wd3IQAQ
UID:ABConcerts_event_6008703c-599f-11eb-a252-5254eb761bff
SEQUENCE:0
DTSTAMP:20260426T055020Z
END:VEVENT
END:VCALENDAR
