BEGIN:VCALENDAR
VERSION:2.0
PRODID:-ABConcerts-events
METHOD:PUBLISH
BEGIN:VEVENT
TRANSP:OPAQUE
DTSTART:20201111T200000
DTEND:20201111T223000
SUMMARY:ABnormal - Faces On TV
LOCATION:AB Theater (Anspachlaan 110\, 1000 Brussel)
DESCRIPTION:Suite au COVID-19\, ce concert est annulé. Veuillez\ndemander un remboursement via votre profil AB sur le site\nweb en cliquant sur Demander un remboursement. Si vous avez\nacheté des tickets dans notre billetterie ou via\nTicketswap\, veuillez envoyer une photo de vos tickets en\nmentionnant votre numéro de compte à\nticketshop@abconcerts.be.
URL;VALUE=URI:https://zebrix.abconcerts.be/fr/agenda/abnormal-faces-on-tv/a105J000001wd1LQAQ
UID:ABConcerts_event_68a598a0-599f-11eb-93a0-5254eb761bff
SEQUENCE:0
DTSTAMP:20260421T114059Z
END:VEVENT
END:VCALENDAR
