BEGIN:VCALENDAR
VERSION:2.0
PRODID:-ABConcerts-events
METHOD:PUBLISH
BEGIN:VEVENT
TRANSP:OPAQUE
DTSTART:20261202T190000
DTEND:20261202T223000
SUMMARY:Vernis Rouge
LOCATION:AB Club - staand (Anspachlaan 110\, 1000 Brussel)
DESCRIPTION:From Blondie to Barbara and back again
URL;VALUE=URI:https://zebrix.abconcerts.be/en/agenda/vernis-rouge/a10Qw00000HyCUMIA3
UID:ABConcerts_event_1f13ef59-b859-6306-b9e2-853a3aea3afb
SEQUENCE:0
DTSTAMP:20260424T165634Z
END:VEVENT
END:VCALENDAR
