BEGIN:VCALENDAR
VERSION:2.0
PRODID:-ABConcerts-events
METHOD:PUBLISH
BEGIN:VEVENT
TRANSP:OPAQUE
DTSTART:20260416T190000
DTEND:20260416T223000
SUMMARY:Tsar B
LOCATION:AB Box (Anspachlaan 110\, 1000 Brussel)
DESCRIPTION:Dark penetrating electronic pop
URL;VALUE=URI:https://zebrix.abconcerts.be/en/agenda/tsar-b/a10Qw000009LMbRIAW
UID:ABConcerts_event_1f0ab42d-812c-6b32-9c89-fb9759637192
SEQUENCE:0
DTSTAMP:20260421T113849Z
END:VEVENT
END:VCALENDAR
