BEGIN:VCALENDAR
VERSION:2.0
PRODID:-ABConcerts-events
METHOD:PUBLISH
BEGIN:VEVENT
TRANSP:OPAQUE
DTSTART:20240910T190000
DTEND:20240910T223000
SUMMARY:Richard Hawley
LOCATION:AB Grote zaal (Anspachlaan 110\, 1000 Brussel)
DESCRIPTION:Presents his tenth album "In This City They Call You Love"
URL;VALUE=URI:https://zebrix.abconcerts.be/en/agenda/richard-hawley/a10Qw000001a7FJIAY
UID:ABConcerts_event_1ef272d8-ac22-696c-9f7f-81f8f0b84206
SEQUENCE:0
DTSTAMP:20260423T105151Z
END:VEVENT
END:VCALENDAR
