BEGIN:VCALENDAR
VERSION:2.0
PRODID:-ABConcerts-events
METHOD:PUBLISH
BEGIN:VEVENT
TRANSP:OPAQUE
DTSTART:20251018T183000
DTEND:20251018T231500
SUMMARY:Rapsalon 2025
LOCATION:AB Box (Anspachlaan 110\, 1000 Brussel)
DESCRIPTION:Old school & next gen hip-hop from the Low Countries
URL;VALUE=URI:https://zebrix.abconcerts.be/en/agenda/rapsalon-2025/a10Qw000000wuwHIAQ
UID:ABConcerts_event_1efff413-6d0d-6118-8d2c-4d7f3fe58276
SEQUENCE:0
DTSTAMP:20260421T072036Z
END:VEVENT
END:VCALENDAR
