BEGIN:VCALENDAR
VERSION:2.0
PRODID:-ABConcerts-events
METHOD:PUBLISH
BEGIN:VEVENT
TRANSP:OPAQUE
DTSTART:20260424T193000
DTEND:20260424T220000
SUMMARY:Punk 50 movie screening: ‘Gummo’ (1997)
LOCATION:AB Salon - zittend (Steenstraat 11\, 1000 Brussel)
DESCRIPTION:The inhabitants of a destroyed village wander through an\nempty landscape in search of meaning
URL;VALUE=URI:https://zebrix.abconcerts.be/en/agenda/punk-50-movie-screening-gummo-1997/a10Qw00000HHAE5IAP
UID:ABConcerts_event_1f12c1c6-d031-6af8-ad54-df42239f0941
SEQUENCE:0
DTSTAMP:20260424T172155Z
END:VEVENT
END:VCALENDAR
