BEGIN:VCALENDAR
VERSION:2.0
PRODID:-ABConcerts-events
METHOD:PUBLISH
BEGIN:VEVENT
TRANSP:OPAQUE
DTSTART:20200516T200000
DTEND:20200516T223000
SUMMARY:POSTPONED: AB & Beursschouwburg present Linn Da Quebrada
LOCATION:Beursschouwburg (Auguste Ortsstraat 20/28\, 1000 Brussel)
DESCRIPTION:Funk carioca\, hip hop and the voice of a generation
URL;VALUE=URI:https://zebrix.abconcerts.be/en/agenda/postponed-ab-beursschouwburg-present-linn-da-quebrada/a105J000001wd1qQAA
UID:ABConcerts_event_60fe3774-599f-11eb-871d-5254eb761bff
SEQUENCE:0
DTSTAMP:20260422T131613Z
END:VEVENT
END:VCALENDAR
