BEGIN:VCALENDAR
VERSION:2.0
PRODID:-ABConcerts-events
METHOD:PUBLISH
BEGIN:VEVENT
TRANSP:OPAQUE
DTSTART:20261113T190000
DTEND:20261113T223000
SUMMARY:New date: Swing
LOCATION:AB Ballroom (Anspachlaan 110\, 1000 Brussel)
DESCRIPTION:New date: 13/11/26
URL;VALUE=URI:https://zebrix.abconcerts.be/en/agenda/new-date-swing/a10Qw0000059ryJIAQ
UID:ABConcerts_event_1f0a28ea-768a-6f4a-ac5b-dd34c85aac41
SEQUENCE:0
DTSTAMP:20260422T140109Z
END:VEVENT
END:VCALENDAR
