BEGIN:VCALENDAR
VERSION:2.0
PRODID:-ABConcerts-events
METHOD:PUBLISH
BEGIN:VEVENT
TRANSP:OPAQUE
DTSTART:20220629T190000
DTEND:20220629T223000
SUMMARY:New date: Robert Jon & The Wreck
LOCATION:AB Club - staand (Anspachlaan 110\, 1000 Brussel)
DESCRIPTION:Californian Southern Soul
URL;VALUE=URI:https://zebrix.abconcerts.be/en/agenda/new-date-robert-jon-the-wreck/a105J000001wd3oQAA
UID:ABConcerts_event_2762301a-599f-11eb-a468-5254eb761bff
SEQUENCE:0
DTSTAMP:20260422T210635Z
END:VEVENT
END:VCALENDAR
