BEGIN:VCALENDAR
VERSION:2.0
PRODID:-ABConcerts-events
METHOD:PUBLISH
BEGIN:VEVENT
TRANSP:OPAQUE
DTSTART:20211103T190000
DTEND:20211103T223000
SUMMARY:New date: AaRON
LOCATION:AB Grote zaal (Anspachlaan 110\, 1000 Brussel)
DESCRIPTION:AaRON is back with a new album!
URL;VALUE=URI:https://zebrix.abconcerts.be/en/agenda/new-date-aaron/a105J000001wd2QQAQ
UID:ABConcerts_event_5a9f66b0-599e-11eb-82e5-5254eb761bff
SEQUENCE:0
DTSTAMP:20260425T160543Z
END:VEVENT
END:VCALENDAR
