BEGIN:VCALENDAR
VERSION:2.0
PRODID:-ABConcerts-events
METHOD:PUBLISH
BEGIN:VEVENT
TRANSP:OPAQUE
DTSTART:20211130T190000
DTEND:20211130T223000
SUMMARY:N∆BOU
LOCATION:AB Club - staand (Anspachlaan 110\, 1000 Brussel)
DESCRIPTION:Jazz? Yes! With Nabou's trombone as a kaleidoscopic core!
URL;VALUE=URI:https://zebrix.abconcerts.be/en/agenda/nbou/a105J000005HfEEQA0
UID:ABConcerts_event_6b69bc8e-1226-11ec-a536-525456751928
SEQUENCE:0
DTSTAMP:20260422T133256Z
END:VEVENT
END:VCALENDAR
