BEGIN:VCALENDAR
VERSION:2.0
PRODID:-ABConcerts-events
METHOD:PUBLISH
BEGIN:VEVENT
TRANSP:OPAQUE
DTSTART:20250322T190000
DTEND:20250322T223000
SUMMARY:Lambrini Girls
LOCATION:AB Club - staand (Anspachlaan 110\, 1000 Brussel)
DESCRIPTION:No rules\, no mercy - Lambrini Girls kick all shins!
URL;VALUE=URI:https://zebrix.abconcerts.be/en/agenda/lambrini-girls/a10Qw000001tLXuIAM
UID:ABConcerts_event_1ef71d87-9971-6a6c-a441-87fb6f7fd133
SEQUENCE:0
DTSTAMP:20260421T131837Z
END:VEVENT
END:VCALENDAR
