BEGIN:VCALENDAR
VERSION:2.0
PRODID:-ABConcerts-events
METHOD:PUBLISH
BEGIN:VEVENT
TRANSP:OPAQUE
DTSTART:20200710T200000
DTEND:20200710T223000
SUMMARY:Het plan B van Zwangere Guy
LOCATION:AB Grote zaal (Anspachlaan 110\, 1000 Brussel)
DESCRIPTION:Ceci n’est pas un livestream!
URL;VALUE=URI:https://zebrix.abconcerts.be/en/agenda/het-plan-b-van-zwangere-guy/a105J000001wd1CQAQ
UID:ABConcerts_event_59240650-599f-11eb-9336-5254eb761bff
SEQUENCE:0
DTSTAMP:20260420T191145Z
END:VEVENT
END:VCALENDAR
