BEGIN:VCALENDAR
VERSION:2.0
PRODID:-ABConcerts-events
METHOD:PUBLISH
BEGIN:VEVENT
TRANSP:OPAQUE
DTSTART:20250511T190000
DTEND:20250511T223000
SUMMARY:Heavy Lungs
LOCATION:AB Club - staand (Anspachlaan 110\, 1000 Brussel)
DESCRIPTION:The one and only Danny Nedelko!
URL;VALUE=URI:https://zebrix.abconcerts.be/en/agenda/heavy-lungs/a10Qw000003WVzuIAG
UID:ABConcerts_event_1efb30db-b321-6c4e-8a01-f9a32fe7e219
SEQUENCE:0
DTSTAMP:20260421T103656Z
END:VEVENT
END:VCALENDAR
