BEGIN:VCALENDAR
VERSION:2.0
PRODID:-ABConcerts-events
METHOD:PUBLISH
BEGIN:VEVENT
TRANSP:OPAQUE
DTSTART:20260215T190000
DTEND:20260215T223000
SUMMARY:Durand Jones & The Indications
LOCATION:AB Ballroom (Anspachlaan 110\, 1000 Brussel)
DESCRIPTION:Two singers on a bed of warm\, smooth soul
URL;VALUE=URI:https://zebrix.abconcerts.be/en/agenda/durand-jones-the-indications/a10Qw000001l1zNIAQ
UID:ABConcerts_event_1f037092-ea0b-61de-a927-d9fe6ed429dc
SEQUENCE:0
DTSTAMP:20260421T072606Z
END:VEVENT
END:VCALENDAR
