BEGIN:VCALENDAR
VERSION:2.0
PRODID:-ABConcerts-events
METHOD:PUBLISH
BEGIN:VEVENT
TRANSP:OPAQUE
DTSTART:20191127T200000
DTEND:20191127T223000
SUMMARY:DOUBLE BILL: JEAN DL & OTTO LINDHOLM + KAREN WILLEMS SOLO
LOCATION:AB Salon - zittend (Steenstraat 11\, 1000 Brussel)
DESCRIPTION:Exciting double bill with top acts from the Belgian improv\nscene
URL;VALUE=URI:https://zebrix.abconcerts.be/en/agenda/double-bill-jean-dl-otto-lindholm-karen-willems-solo/a105J000001wd4MQAQ
UID:ABConcerts_event_2bc8c592-599f-11eb-8d6a-5254eb761bff
SEQUENCE:0
DTSTAMP:20260425T013149Z
END:VEVENT
END:VCALENDAR
