BEGIN:VCALENDAR
VERSION:2.0
PRODID:-ABConcerts-events
METHOD:PUBLISH
BEGIN:VEVENT
TRANSP:OPAQUE
DTSTART:20260605T230000
DTEND:20260606T050000
SUMMARY:Clubnight by Liaison x Kunty Kompany: DICTATOR’S FUNERAL
LOCATION:AB Club - staand (Anspachlaan 110\, 1000 Brussel)
DESCRIPTION:There are moments in the fight against injustice when\neverything feels overwhelming\, the systems\, the pressure\,\nthe exhaustion. And then there are moments when we allow\nourselves to imagine something else: old structures\nloosening\, control fading\, the atmosphere becoming\nlighter. This imagination is not naïve\, it is necessary.\nIt gives space to breathe\, to create\, to reinvent.Think of\nthe outfit that gives you confidence\, worn with the quiet\ncertainty that all of this will eventually pass. Think of\nthe dance floor as a place where weight dissolves\, where\nbodies move without permission\, where we rehearse the world\nwe deserve.In these moments\, softness becomes strength\,\npresence becomes resistance\, and joy becomes a way\nforward.Kunty Kompany is a collective of queer people of\ncolour reclaiming space within nightlife. Rooted in\ncommunity\, care\, and expression\, they bring together\nsound\, style\, and energy to create environments where\npeople can exist freely\, celebrate themselves\, and connect\non their own terms.Liaison Music is a gathering of queer\nmigrant musicians working to build independent\, safe spaces\nfor newly arrived artists. The collective offers support\,\nguidance\, and community to help navigate a new environment\nand find footing within the local scene.&#128205; EVENT\nINFOCome dressed like you’re attending the funeral of a\nbunch of unhinged old men who spent decades burning the\nworld down!
URL;VALUE=URI:https://zebrix.abconcerts.be/en/agenda/clubnight-by-liaison-x-kunty-kompany-dictators-funeral/a10Qw000009V4LXIA0
UID:ABConcerts_event_1f12c45a-3260-6aea-a04d-e9429ac043ae
SEQUENCE:0
DTSTAMP:20260423T154500Z
END:VEVENT
END:VCALENDAR
