BEGIN:VCALENDAR
VERSION:2.0
PRODID:-ABConcerts-events
METHOD:PUBLISH
BEGIN:VEVENT
TRANSP:OPAQUE
DTSTART:20241024T190000
DTEND:20241024T223000
SUMMARY:Charlotte & Reinhard
LOCATION:AB Club - staand (Anspachlaan 110\, 1000 Brussel)
DESCRIPTION:Dreamy\, danceable pop with a summery sound
URL;VALUE=URI:https://zebrix.abconcerts.be/en/agenda/charlotte-reinhard/a10Qw000000lU7WIAU
UID:ABConcerts_event_1eec43d8-6647-60d0-a09c-1f183301599b
SEQUENCE:0
DTSTAMP:20260424T114243Z
END:VEVENT
END:VCALENDAR
