BEGIN:VCALENDAR
VERSION:2.0
PRODID:-ABConcerts-events
METHOD:PUBLISH
BEGIN:VEVENT
TRANSP:OPAQUE
DTSTART:20200621T200000
DTEND:20200621T223000
SUMMARY:CANCELLED: Champion Sound Beat Battle
LOCATION:AB Club - staand (Anspachlaan 110\, 1000 Brussel)
DESCRIPTION:As a result of COVID-19\, the CHAMPION SOUND BEAT\nBATTLE concert of 21/06/2020 is cancelled.  We could not\nfind a new date. Thank you for your understanding.  Tickets\npurchased online are automatically refunded within 30 days\nvia the method of payment with which they were purchased. \nIn the event that you have purchased tickets in the Ticket\nShop or via Ticketswap\, please send us a picture of your\ntickets with the details of your bank account\,\nto info@abconcerts.be.
URL;VALUE=URI:https://zebrix.abconcerts.be/en/agenda/cancelled-champion-sound-beat-battle/a105J000001wd3JQAQ
UID:ABConcerts_event_601379c8-599f-11eb-901c-5254eb761bff
SEQUENCE:0
DTSTAMP:20260423T034301Z
END:VEVENT
END:VCALENDAR
