BEGIN:VCALENDAR
VERSION:2.0
PRODID:-ABConcerts-events
METHOD:PUBLISH
BEGIN:VEVENT
TRANSP:OPAQUE
DTSTART:20230622T190000
DTEND:20230622T223000
SUMMARY:Beth Orton
LOCATION:AB Club - staand (Anspachlaan 110\, 1000 Brussel)
DESCRIPTION:‘A superb album from a woman who has nothing left to\nprove.’ (Oor)
URL;VALUE=URI:https://zebrix.abconcerts.be/en/agenda/beth-orton/a105J000008G9oJQAS
UID:ABConcerts_event_81eff116-c23e-11ed-a5e1-5254eb761bff
SEQUENCE:0
DTSTAMP:20260426T023421Z
END:VEVENT
END:VCALENDAR
