BEGIN:VCALENDAR
VERSION:2.0
PRODID:-ABConcerts-events
METHOD:PUBLISH
BEGIN:VEVENT
TRANSP:OPAQUE
DTSTART:20201015T200000
DTEND:20201015T223000
SUMMARY:ABnormal - Marble Sounds
LOCATION:AB Theater (Anspachlaan 110\, 1000 Brussel)
DESCRIPTION:Smooth and wonderfully beautiful
URL;VALUE=URI:https://zebrix.abconcerts.be/en/agenda/abnormal-marble-sounds/a105J000001wd3OQAQ
UID:ABConcerts_event_5e14f426-599f-11eb-836b-5254eb761bff
SEQUENCE:0
DTSTAMP:20260424T022458Z
END:VEVENT
END:VCALENDAR
